Workbook

Sheet 記入方法
B2: 現場記録シート（予約キャンセル・売上・客数・受注取消 日次記録）
B3: 作成：2026年08月10日 熊本県よろず支援拠点 https://r8sinsai.yorozu-kumamoto.go.jp/
B6: 【目的】
B7: 7月28日以降に発生している影響（予約キャンセル・売上減・客数減・受注取消）を日次で記録し、今後の支援制度（給付金・補助金・融資等）の申請時に必要な証拠資料として整理するための台帳です。
B9: 【使い方】
B10: ① 「日次記録」シートの黄色いセル（入力欄）に、営業日ごとの実績を入力してください。
B11: ② 日付は7/28から自動で連番になっています。不要な行はそのままで構いません（空欄でOK）。
B12: ③ 前年同期比・客数減・合計等は数式で自動計算されます。黄色いセル以外は編集しないでください。
B13: ④ 「集計」シートに、期間合計・平均・最大値が自動集計されます。申請書類への転記や添付にご利用ください。
B14: ⑤ 金額は税込・税抜のどちらかに統一し、備考欄にどちらかを明記してください。
B15: ⑥ キャンセルの根拠（予約台帳、POSレジ、受発注システム等）は保管し、可能であれば控えを別途スキャンして保存してください。
B17: 【入力項目の説明】
... B30: 白色のセル ＝ 自動計算（数式）— 編集不要

Sheet 日次記録
A1: 日次記録シート（7月28日〜）
A2: 黄色いセルに入力してください。前年同期比・客数減・合計は自動計算されます。
A4: 日付 | B4: 曜日 | C4: 予約キャンセル 件数 | D4: 予約キャンセル 金額（円） | E4: 当日売上 （円） | F4: 前年同日売上 （円） | G4: 前年同期比 （％） | H4: 客数（当日） （人） | I4: 前年同日客数 （人） | J4: 客数減 （人） | K4: 受注取消件数 | L4: 受注取消金額 （円） | M4: 備考
A5: 46231 | B5: 火 | G5: {=_xlfn.IFERROR(E5/F5-1,"")} | J5: {=_xlfn.IFERROR(I5-H5,"")} -> 0
A6: 46232 | B6: 水 | G6: {=_xlfn.IFERROR(E6/F6-1,"")} | J6: {=_xlfn.IFERROR(I6-H6,"")} -> 0
A7: 46233 | B7: 木 | G7: {=_xlfn.IFERROR(E7/F7-1,"")} | J7: {=_xlfn.IFERROR(I7-H7,"")} -> 0
A8: 46234 | B8: 金 | G8: {=_xlfn.IFERROR(E8/F8-1,"")} | J8: {=_xlfn.IFERROR(I8-H8,"")} -> 0
A9: 46235 | B9: 土 | G9: {=_xlfn.IFERROR(E9/F9-1,"")} | J9: {=_xlfn.IFERROR(I9-H9,"")} -> 0
A10: 46236 | B10: 日 | G10: {=_xlfn.IFERROR(E10/F10-1,"")} | J10: {=_xlfn.IFERROR(I10-H10,"")} -> 0
A11: 46237 | B11: 月 | G11: {=_xlfn.IFERROR(E11/F11-1,"")} | J11: {=_xlfn.IFERROR(I11-H11,"")} -> 0
A12: 46238 | B12: 火 | G12: {=_xlfn.IFERROR(E12/F12-1,"")} | J12: {=_xlfn.IFERROR(I12-H12,"")} -> 0
A13: 46239 | B13: 水 | G13: {=_xlfn.IFERROR(E13/F13-1,"")} | J13: {=_xlfn.IFERROR(I13-H13,"")} -> 0
A14: 46240 | B14: 木 | G14: {=_xlfn.IFERROR(E14/F14-1,"")} | J14: {=_xlfn.IFERROR(I14-H14,"")} -> 0
A15: 46241 | B15: 金 | G15: {=_xlfn.IFERROR(E15/F15-1,"")} | J15: {=_xlfn.IFERROR(I15-H15,"")} -> 0
A16: 46242 | B16: 土 | G16: {=_xlfn.IFERROR(E16/F16-1,"")} | J16: {=_xlfn.IFERROR(I16-H16,"")} -> 0
... A96: 46322 | B96: 火 | G96: {=_xlfn.IFERROR(E96/F96-1,"")} | J96: {=_xlfn.IFERROR(I96-H96,"")} -> 0
A98: 例）2026/07/28 予約キャンセル 3件・45,000円／当日売上 120,000円／前年同日売上 180,000円／客数 18人（前年32人）／受注取消 1件・80,000円／備考：台風接近に伴う団体キャンセル

Sheet 集計
A1: 集計サマリー（7月28日以降）
A2: 「日次記録」シートから自動集計されます。支援制度の申請資料に添付・転記してご利用ください。
A4: 項目 | B4: 合計 | C4: 平均（実績日） | D4: 最大 | E4: 備考
A5: 予約キャンセル件数（合計） | B5: {=SUM('日次記録'!C5:C96)} -> 0 | C5: {=_xlfn.IFERROR(_xlfn.AVERAGEIF('日次記録'!C5:C96,"<>"),0)} -> 0 | D5: {=_xlfn.IFERROR(MAX('日次記録'!C5:C96),0)} -> 0 | E5: 件
A6: 予約キャンセル金額（円） | B6: {=SUM('日次記録'!D5:D96)} -> 0 | C6: {=_xlfn.IFERROR(_xlfn.AVERAGEIF('日次記録'!D5:D96,"<>"),0)} -> 0 | D6: {=_xlfn.IFERROR(MAX('日次記録'!D5:D96),0)} -> 0 | E6: 円
A7: 当日売上 合計（円） | B7: {=SUM('日次記録'!E5:E96)} -> 0 | C7: {=_xlfn.IFERROR(_xlfn.AVERAGEIF('日次記録'!E5:E96,"<>"),0)} -> 0 | D7: {=_xlfn.IFERROR(MAX('日次記録'!E5:E96),0)} -> 0 | E7: 円
A8: 前年同期売上 合計（円） | B8: {=SUM('日次記録'!F5:F96)} -> 0 | C8: {=_xlfn.IFERROR(_xlfn.AVERAGEIF('日次記録'!F5:F96,"<>"),0)} -> 0 | D8: {=_xlfn.IFERROR(MAX('日次記録'!F5:F96),0)} -> 0 | E8: 円
A9: 前年同期比（期間平均） | B9: {=_xlfn.IFERROR(_xlfn.AVERAGEIF('日次記録'!G5:G96,"<>"),0)} -> 0 | C9: {=_xlfn.IFERROR(_xlfn.AVERAGEIF('日次記録'!G5:G96,"<>"),0)} -> 0 | D9: {=_xlfn.IFERROR(MIN('日次記録'!G5:G96),0)} -> 0 | E9: ※最大列は期間最小値（下落が最も大きい日）を表示
A10: 客数減 合計（人） | B10: {=SUM('日次記録'!J5:J96)} -> 0 | C10: {=_xlfn.IFERROR(_xlfn.AVERAGEIF('日次記録'!J5:J96,"<>"),0)} -> 0 | D10: {=_xlfn.IFERROR(MAX('日次記録'!J5:J96),0)} -> 0 | E10: 人
A11: 受注取消件数（合計） | B11: {=SUM('日次記録'!K5:K96)} -> 0 | C11: {=_xlfn.IFERROR(_xlfn.AVERAGEIF('日次記録'!K5:K96,"<>"),0)} -> 0 | D11: {=_xlfn.IFERROR(MAX('日次記録'!K5:K96),0)} -> 0 | E11: 件
A12: 受注取消金額（円） | B12: {=SUM('日次記録'!L5:L96)} -> 0 | C12: {=_xlfn.IFERROR(_xlfn.AVERAGEIF('日次記録'!L5:L96,"<>"),0)} -> 0 | D12: {=_xlfn.IFERROR(MAX('日次記録'!L5:L96),0)} -> 0 | E12: 円
A14: 記入済み日数 | B14: {=COUNTIF('日次記録'!D5:D96,"<>")} -> 0 | E14: 日
